BEGIN:VCALENDAR
VERSION:2.0
PRODID:-//Cantabo-CS - ECPv6.15.15//NONSGML v1.0//EN
CALSCALE:GREGORIAN
METHOD:PUBLISH
X-ORIGINAL-URL:https://cantabo-cs.com
X-WR-CALDESC:Eventos para Cantabo-CS
REFRESH-INTERVAL;VALUE=DURATION:PT1H
X-Robots-Tag:noindex
X-PUBLISHED-TTL:PT1H
BEGIN:VTIMEZONE
TZID:Europe/Lisbon
BEGIN:DAYLIGHT
TZOFFSETFROM:+0000
TZOFFSETTO:+0100
TZNAME:WEST
DTSTART:20240331T010000
END:DAYLIGHT
BEGIN:STANDARD
TZOFFSETFROM:+0100
TZOFFSETTO:+0000
TZNAME:WET
DTSTART:20241027T010000
END:STANDARD
BEGIN:DAYLIGHT
TZOFFSETFROM:+0000
TZOFFSETTO:+0100
TZNAME:WEST
DTSTART:20250330T010000
END:DAYLIGHT
BEGIN:STANDARD
TZOFFSETFROM:+0100
TZOFFSETTO:+0000
TZNAME:WET
DTSTART:20251026T010000
END:STANDARD
BEGIN:DAYLIGHT
TZOFFSETFROM:+0000
TZOFFSETTO:+0100
TZNAME:WEST
DTSTART:20260329T010000
END:DAYLIGHT
BEGIN:STANDARD
TZOFFSETFROM:+0100
TZOFFSETTO:+0000
TZNAME:WET
DTSTART:20261025T010000
END:STANDARD
END:VTIMEZONE
BEGIN:VEVENT
DTSTART;VALUE=DATE:20250713
DTEND;VALUE=DATE:20250714
DTSTAMP:20260424T023320
CREATED:20210531T135553Z
LAST-MODIFIED:20250501T082549Z
UID:14193-1752364800-1752451199@cantabo-cs.com
SUMMARY:XV Domingo do Tempo Comum
DESCRIPTION:O Senhor fala-nos “de muitas e variadas formas”. A voz de Deus manifesta-se nos mais insignificantes acontecimentos. Todas as coisas são imagens de Deus\, se bem que imperfeitas. Em todas elas sé Cristo que opera e nelas se comunica. Interroguemo-nos\, pois\, sobre a atenção que nos tem merecido essa voz de Deus e\, muito particularmente\, a Palavra ouvida e lida na Sagrada Liturgia. \n[…]
URL:https://cantabo-cs.com/canticos/xxiv-domingo-do-tempo-comum-2/
END:VEVENT
END:VCALENDAR