BEGIN:VCALENDAR
VERSION:2.0
PRODID:-//Cantabo-CS - ECPv6.15.15//NONSGML v1.0//EN
CALSCALE:GREGORIAN
METHOD:PUBLISH
X-ORIGINAL-URL:https://cantabo-cs.com
X-WR-CALDESC:Eventos para Cantabo-CS
REFRESH-INTERVAL;VALUE=DURATION:PT1H
X-Robots-Tag:noindex
X-PUBLISHED-TTL:PT1H
BEGIN:VTIMEZONE
TZID:UTC
BEGIN:STANDARD
TZOFFSETFROM:+0000
TZOFFSETTO:+0000
TZNAME:UTC
DTSTART:20240101T000000
END:STANDARD
END:VTIMEZONE
BEGIN:VEVENT
DTSTART;VALUE=DATE:20250711
DTEND;VALUE=DATE:20250712
DTSTAMP:20260424T023321
CREATED:20210531T134156Z
LAST-MODIFIED:20250430T174404Z
UID:4281-1752192000-1752278399@cantabo-cs.com
SUMMARY:S. Bento\, Fundador –  Patrono da Europa (480-547)
DESCRIPTION:Mosteiro de São bento | Subiaco (Lácio – Itália) Exterior\nMosteiro de São bento | Subiaco (Lácio – Itália) Igreja Superior (Fotografia de Antonio Grella)\nBento\, o patriarca dos monges do Ocidente\, é comparado com Abraão\, o pai dos crentes\, porque Deus o abençoou também com uma posteridade mais numerosa que as areias do mar e as estrelas do céu. Nascido em Núrsia da Umbria\, Itália\, pelo ano de 480\, de família nobre\, consagrou-se aos estudos em Roma; depressa\, contudo\, abandonou esta cidade por causa da imoralidade reinante entre os seus condiscípulos\, e refugiou-se\, primeiro em Enfide\, aldeia da Sabina\, e depois numa caverna existente no vale do Aniene\, perto de Subiaco\, onde se votou à oração e à penitência. \n[…] \nEste é o primeiro parágrafo da breve biografia de São Bento\, extraído do II volume da obra «Santos de cada dia – Maio\, junho\, julho e agosto»\, que aqui transcrevemos\, com a devida vénia. Pode ler integralmente a sua história na página de «Proposta de cânticos para a celebração eucarística» (link a seguir)\, ou na obra publicada pelo Secretariado Nacional do Apostolado da Oração – 4ª edição\, revista e atualizada por António José Coelho\, S.J.\, Editorial A.O.\, Braga 2003 (páginas 315-317).
URL:https://cantabo-cs.com/canticos/s-bento-fundador-patrono-da-europa-480-547/
END:VEVENT
END:VCALENDAR