BEGIN:VCALENDAR
VERSION:2.0
PRODID:-//Cantabo-CS - ECPv6.15.15//NONSGML v1.0//EN
CALSCALE:GREGORIAN
METHOD:PUBLISH
X-ORIGINAL-URL:https://cantabo-cs.com
X-WR-CALDESC:Eventos para Cantabo-CS
REFRESH-INTERVAL;VALUE=DURATION:PT1H
X-Robots-Tag:noindex
X-PUBLISHED-TTL:PT1H
BEGIN:VTIMEZONE
TZID:UTC
BEGIN:STANDARD
TZOFFSETFROM:+0000
TZOFFSETTO:+0000
TZNAME:UTC
DTSTART:20240101T000000
END:STANDARD
END:VTIMEZONE
BEGIN:VEVENT
DTSTART;VALUE=DATE:20250703
DTEND;VALUE=DATE:20250704
DTSTAMP:20260424T023637
CREATED:20190322T141126Z
LAST-MODIFIED:20250430T140848Z
UID:4218-1751500800-1751587199@cantabo-cs.com
SUMMARY:S. Tomé\, Apóstolo
DESCRIPTION:Caravaggio | Incredulidade de São Tomé (1602-1603) – Pinacoteca do Castelo Sanssouci (Potsdam)\nTomé\, nome aramaico que em grego significa o mesmo que Dídimo\, ou gémeo em português\, devia naturalmente ser galileu\, homem do povo\, muito honrado\, nobre e sincero\, embora com muita casca áspera e tosca\, que era preciso fender para se vir a simpatizar com ele. Não possuía a graça e a medida ática dos gregos\, mas tinha a since­ridade e espontaneidade do israelita verdadeiro\, em que não há malícia. Carácter forte e impulsivo\, muito parecido com o de S. Pedro\, tem como ele momentos de soberba e obstinação\, de rebeldia e egoísmo\, para logo em seguida cair desarmado\, e com as lágrimas do arrependimento\, aos pés de Jesus. \n[…] \nEste é o primeiro parágrafo da breve biografia do apóstolo S. Tomé\, extraído do II volume da obra «Santos de cada dia – Maio\, junho\, julho e agosto»\, que aqui transcrevemos\, com a devida vénia. Pode ler integralmente a sua história na página de «Proposta de Cânticos para a Celebração Eucarística» (link a seguir)\, ou na obra publicada pelo Secretariado Nacional do Apostolado da Oração – 4ª edição\, revista e atualizada por António José Coelho\, S.J.\, Editorial A.O.\, Braga 2003 (páginas 288-290).
URL:https://cantabo-cs.com/canticos/s-tome-apostolo/
END:VEVENT
END:VCALENDAR