BEGIN:VCALENDAR
VERSION:2.0
PRODID:-//Cantabo-CS - ECPv6.15.15//NONSGML v1.0//EN
CALSCALE:GREGORIAN
METHOD:PUBLISH
X-ORIGINAL-URL:https://cantabo-cs.com
X-WR-CALDESC:Eventos para Cantabo-CS
REFRESH-INTERVAL;VALUE=DURATION:PT1H
X-Robots-Tag:noindex
X-PUBLISHED-TTL:PT1H
BEGIN:VTIMEZONE
TZID:UTC
BEGIN:STANDARD
TZOFFSETFROM:+0000
TZOFFSETTO:+0000
TZNAME:UTC
DTSTART:20240101T000000
END:STANDARD
END:VTIMEZONE
BEGIN:VEVENT
DTSTART;VALUE=DATE:20250531
DTEND;VALUE=DATE:20250601
DTSTAMP:20260424T035104
CREATED:20190321T100127Z
LAST-MODIFIED:20250330T110443Z
UID:4152-1748649600-1748735999@cantabo-cs.com
SUMMARY:Visitação de Nossa Senhora
DESCRIPTION:Raffaello Sanzio | Visitação – Museu do Prado\nO primeiro desejo de Maria\, após a anunciação do Anjo\, foi ver a sua prima Isabel\, a anciã que\, sendo estéril\, concebera um filho. Este menino há de ser João Baptista\, o Penitente do Deserto\, o Pregador de fogo que virá preparar a chegada de Jesus\, o Mensageiro fiel que desaparecerá quando aparecer o Rei. Foi então que Maria subiu\, solícita\, a auxiliar sua prima\, avançada em anos. \n  \nEste é apenas o início do capítulo sobre a Festa da Visitação de N. Senhora\, extraído do II volume da obra «Santos de cada dia – Maio\, junho\, julho e agosto»\, que aqui transcrevemos com a devida vénia. Pode lê-lo integralmente na obra publicada pelo Secretariado Nacional do Apostolado da Oração – 4ª edição\, revista e atualizada por António José Coelho\, S.J.\, Editorial A.O.\, Braga 2003 (páginas 127-128). \n \n 
URL:https://cantabo-cs.com/canticos/31-de-maio-visitacao-de-nossa-senhora/
END:VEVENT
END:VCALENDAR