BEGIN:VCALENDAR
VERSION:2.0
PRODID:-//Cantabo-CS - ECPv6.15.15//NONSGML v1.0//EN
CALSCALE:GREGORIAN
METHOD:PUBLISH
X-ORIGINAL-URL:https://cantabo-cs.com
X-WR-CALDESC:Eventos para Cantabo-CS
REFRESH-INTERVAL;VALUE=DURATION:PT1H
X-Robots-Tag:noindex
X-PUBLISHED-TTL:PT1H
BEGIN:VTIMEZONE
TZID:UTC
BEGIN:STANDARD
TZOFFSETFROM:+0000
TZOFFSETTO:+0000
TZNAME:UTC
DTSTART:20240101T000000
END:STANDARD
END:VTIMEZONE
BEGIN:VEVENT
DTSTART;VALUE=DATE:20250503
DTEND;VALUE=DATE:20250504
DTSTAMP:20260424T050211
CREATED:20190321T095441Z
LAST-MODIFIED:20250406T085054Z
UID:4143-1746230400-1746316799@cantabo-cs.com
SUMMARY:S. Filipe e S. Tiago\, Apóstolos
DESCRIPTION:Filipe foi natural de Betsaida\, na margem do lago da Galileia. Tinha casa\, mulher e três filhas pequenas quando Jesus o chamou para o apostolado com aquele «segue-Me»\, que nos deixou S. João no Evangelho. Desde esse momento\, Filipe não vive senão para Jesus e para a sua causa. […] \n Tiago\, o Menor\, chamado assim pela estatura ou pela idade\, tem um título que o torna credor de especial veneração: é parente do Senhor\, segundo a carne. Nasceu em Caná\, perto de Nazaré. Sua mãe\, Maria\, e seu pai\, Cléofas\, pertencem à mesma família que S. José. É talvez sobrinho de S. José por parte do pai. Tinha um irmão que se chamava Judas\, distinto do traidor. Os dois foram escolhidos para o apostolado. Depois não se fala de S. Tiago\, senão para ser dito que o Senhor lhe apareceu nos dias da Ressurreição. \nEstes são alguns breves excertos do capítulo sobre a Festa dos Apóstolos Filipe e Tiago\, extraídos do II volume da obra «Santos de cada dia – Maio\, junho\, julho e agosto»\, que aqui transcrevemos com a devida vénia. Pode lê-lo integralmente na obra publicada pelo Secretariado Nacional do Apostolado da Oração – 4ª edição\, revista e atualizada por António José Coelho\, S.J.\, Editorial A.O.\, Braga 2003 (páginas 18-19).
URL:https://cantabo-cs.com/canticos/3-de-maio-s-filipe-e-s-tiago-apostolos/
END:VEVENT
END:VCALENDAR