BEGIN:VCALENDAR
VERSION:2.0
PRODID:-//Cantabo-CS - ECPv6.15.15//NONSGML v1.0//EN
CALSCALE:GREGORIAN
METHOD:PUBLISH
X-WR-CALNAME:Cantabo-CS
X-ORIGINAL-URL:https://cantabo-cs.com
X-WR-CALDESC:Eventos para Cantabo-CS
REFRESH-INTERVAL;VALUE=DURATION:PT1H
X-Robots-Tag:noindex
X-PUBLISHED-TTL:PT1H
BEGIN:VTIMEZONE
TZID:Europe/Lisbon
BEGIN:DAYLIGHT
TZOFFSETFROM:+0000
TZOFFSETTO:+0100
TZNAME:WEST
DTSTART:20240331T010000
END:DAYLIGHT
BEGIN:STANDARD
TZOFFSETFROM:+0100
TZOFFSETTO:+0000
TZNAME:WET
DTSTART:20241027T010000
END:STANDARD
BEGIN:DAYLIGHT
TZOFFSETFROM:+0000
TZOFFSETTO:+0100
TZNAME:WEST
DTSTART:20250330T010000
END:DAYLIGHT
BEGIN:STANDARD
TZOFFSETFROM:+0100
TZOFFSETTO:+0000
TZNAME:WET
DTSTART:20251026T010000
END:STANDARD
BEGIN:DAYLIGHT
TZOFFSETFROM:+0000
TZOFFSETTO:+0100
TZNAME:WEST
DTSTART:20260329T010000
END:DAYLIGHT
BEGIN:STANDARD
TZOFFSETFROM:+0100
TZOFFSETTO:+0000
TZNAME:WET
DTSTART:20261025T010000
END:STANDARD
END:VTIMEZONE
BEGIN:VEVENT
DTSTART;VALUE=DATE:20250316
DTEND;VALUE=DATE:20250317
DTSTAMP:20260424T072940
CREATED:20200205T093244Z
LAST-MODIFIED:20241216T084901Z
UID:11326-1742083200-1742169599@cantabo-cs.com
SUMMARY:Segundo Domingo da Quaresma
DESCRIPTION:Basílica da Transfiguração | Monte Tabor\nApesar de o homem ter esquecido o seu destino sobrenatural\, Deus\, tomando a iniciativa do diálogo\, vem ao seu encontro\, revela-Se-lhe e deseja estabelecer com ele relações pessoais de amizade. A aliança feita com Abraão e outras que se lhe seguiram são preparação da aliança definitiva realizada em Cristo. A esta prova de confiança dada por Deus\, o homem só pode responder como Abraão com a disponibilidade total\, disponibilidade que não suprime as dificuldades do caminho. Mas o nosso caminho de dor levar-nos-á sempre à nossa transfiguração em Cristo. \nConvidamos também a abrir o SITE https://www.liturgia.pt/ onde\, além de informações e materiais preciosos\, incluindo publicações diversas\, encontra as leituras bíblicas\, orações e referências históricas para cada dia do Ano Litúrgico\, nomeadamente o Martirológio. HOJE
URL:https://cantabo-cs.com/canticos/segundo-domingo-da-quaresma/
END:VEVENT
END:VCALENDAR