BEGIN:VCALENDAR
VERSION:2.0
PRODID:-//Cantabo-CS - ECPv6.15.15//NONSGML v1.0//EN
CALSCALE:GREGORIAN
METHOD:PUBLISH
X-ORIGINAL-URL:https://cantabo-cs.com
X-WR-CALDESC:Eventos para Cantabo-CS
REFRESH-INTERVAL;VALUE=DURATION:PT1H
X-Robots-Tag:noindex
X-PUBLISHED-TTL:PT1H
BEGIN:VTIMEZONE
TZID:Europe/Lisbon
BEGIN:DAYLIGHT
TZOFFSETFROM:+0000
TZOFFSETTO:+0100
TZNAME:WEST
DTSTART:20240331T010000
END:DAYLIGHT
BEGIN:STANDARD
TZOFFSETFROM:+0100
TZOFFSETTO:+0000
TZNAME:WET
DTSTART:20241027T010000
END:STANDARD
BEGIN:DAYLIGHT
TZOFFSETFROM:+0000
TZOFFSETTO:+0100
TZNAME:WEST
DTSTART:20250330T010000
END:DAYLIGHT
BEGIN:STANDARD
TZOFFSETFROM:+0100
TZOFFSETTO:+0000
TZNAME:WET
DTSTART:20251026T010000
END:STANDARD
BEGIN:DAYLIGHT
TZOFFSETFROM:+0000
TZOFFSETTO:+0100
TZNAME:WEST
DTSTART:20260329T010000
END:DAYLIGHT
BEGIN:STANDARD
TZOFFSETFROM:+0100
TZOFFSETTO:+0000
TZNAME:WET
DTSTART:20261025T010000
END:STANDARD
END:VTIMEZONE
BEGIN:VEVENT
DTSTART;VALUE=DATE:20250223
DTEND;VALUE=DATE:20250224
DTSTAMP:20260424T083507
CREATED:20241214T180149Z
LAST-MODIFIED:20241214T180149Z
UID:44899-1740268800-1740355199@cantabo-cs.com
SUMMARY:VII Domingo do Tempo Comum
DESCRIPTION:Temos que amar os nossos irmãos\, sempre e na medida em que Cristo nos amou. Amá-los\, apesar dos ódios e injustiças de que possamos ser vítimas. Amar os mesmos inimigos\, não por passividade\, mas pelo dinamismo do Amor. \n[…] \nPode ler todo o comentário  do P. Manuel da Silva Gasparna página com a \n \n*** \nConvidamos também a abrir o SITE https://www.liturgia.pt/ onde\, além de informações e materiais preciosos\, incluindo publicações diversas\, encontra as leituras bíblicas\, orações e referências históricas para cada dia do Ano Litúrgico\, nomeadamente o Martirológio. HOJE \nOs botões com os títulos dos cânticos propostos a seguir estão ligados às respetivas partituras – em formato PDF – que incluem uma versão instrumental das respetivas melodias. Para quaisquer dúvidas\, comentários ou pedidos\, não hesite em contactar o titular do site\, utilizando este formulário. \n 
URL:https://cantabo-cs.com/canticos/vii-domingo-do-tempo-comum/
END:VEVENT
END:VCALENDAR