BEGIN:VCALENDAR
VERSION:2.0
PRODID:-//Cantabo-CS - ECPv6.15.15//NONSGML v1.0//EN
CALSCALE:GREGORIAN
METHOD:PUBLISH
X-ORIGINAL-URL:https://cantabo-cs.com
X-WR-CALDESC:Eventos para Cantabo-CS
REFRESH-INTERVAL;VALUE=DURATION:PT1H
X-Robots-Tag:noindex
X-PUBLISHED-TTL:PT1H
BEGIN:VTIMEZONE
TZID:UTC
BEGIN:STANDARD
TZOFFSETFROM:+0000
TZOFFSETTO:+0000
TZNAME:UTC
DTSTART:20240101T000000
END:STANDARD
END:VTIMEZONE
BEGIN:VEVENT
DTSTART;VALUE=DATE:20250222
DTEND;VALUE=DATE:20250223
DTSTAMP:20260424T083506
CREATED:20190115T175251Z
LAST-MODIFIED:20241214T174452Z
UID:2412-1740182400-1740268799@cantabo-cs.com
SUMMARY:Cadeira (Cátedra) de S. Pedro\, Apóstolo
DESCRIPTION:A Igreja celebra hoje a chamada “Cadeira de S. Pedro”. Cadeira significa assento de honra – com espaldar e até almofada – em que se sentava quem tinha autoridade de juiz ou de mestre. Por isso\, a cadeira por excelência é a do Bispo\, juiz e ao mesmo tempo mestre; e chamam-se catedrais as igrejas onde se encontra a cadeira ou cátedra do magistério episcopal.\nA igreja de S. Pedro em Roma poder-se-ia chamar a catedral das catedrais. Na verdade\, aquela cadeira que se encontra em cada igreja episcopal é\, em S. Pedro do Vaticano\, símbolo dum magistério universal e está colocada na mais destacada evidência. Ao lado\, na verdade vive de há séculos o Papa\, embora tenha a Sé episcopal mais longe\, em S. João de Latrão.\nEntrando na basílica vaticana\, logo se descobre no fundo\, já de longe\, aquilo que alguém chamou um deslumbrante ciclone dourado. \n[…] \nPara continuar a ler:\nJOSÉ LEITE\, SJ (Organização de)\, “Santos de Cada Dia” I – Janeiro\, Fevereiro\, Março e Abril | 4ª edição revista e atualizada por António José Coelho\, SJ\, Editorial A.O. Braga 2003 – pág. 192-193.
URL:https://cantabo-cs.com/canticos/2412/
END:VEVENT
END:VCALENDAR