BEGIN:VCALENDAR
VERSION:2.0
PRODID:-//Cantabo-CS - ECPv6.15.15//NONSGML v1.0//EN
CALSCALE:GREGORIAN
METHOD:PUBLISH
X-WR-CALNAME:Cantabo-CS
X-ORIGINAL-URL:https://cantabo-cs.com
X-WR-CALDESC:Eventos para Cantabo-CS
REFRESH-INTERVAL;VALUE=DURATION:PT1H
X-Robots-Tag:noindex
X-PUBLISHED-TTL:PT1H
BEGIN:VTIMEZONE
TZID:UTC
BEGIN:STANDARD
TZOFFSETFROM:+0000
TZOFFSETTO:+0000
TZNAME:UTC
DTSTART:20230101T000000
END:STANDARD
END:VTIMEZONE
BEGIN:VEVENT
DTSTART;VALUE=DATE:20241205
DTEND;VALUE=DATE:20241206
DTSTAMP:20260424T110038
CREATED:20190919T184554Z
LAST-MODIFIED:20240903T072442Z
UID:7217-1733356800-1733443199@cantabo-cs.com
SUMMARY:S. Martinho de Dume\, Bispo (+ 579)
DESCRIPTION:Oriundo da Panónia\, atual Hungria\, dirigiu-se ainda jovem ao Oriente\, onde professou vida regular: estudou o grego e outras ciências eclesiásticas em que muito cedo se distinguiu\, até ser classificado\, pelo eminente Doutor Santo Isidoro\, como ilustre na fé e na ciência. Também Gregório de Tours o considerou entre os homens insuperáveis do seu tempo. \nRegressando do Oriente\, dirigiu-se depois a Roma e França\, onde travou conhecimento com as personagens por então mais insignes em saber e santidade. Sobretudo\, quis visitar o túmulo do seu homónimo e compatriota\, S. Martinho de Tours\, que desde então ficará considerando como seu patrono e modelo. Foi também por essa altura que Martinho se encontrou com o rei dos Suevos\, Charrarico\, ao qual acompanhou para o noroeste da Península Ibérica\, em 550\, onde\, com restos do gentilismo e bastante ignorância religiosa\, se espalhara o arianismo. \nPara acorrer a tantos males\, não tardou Martinho em planear e pôr em marcha o seu vigoroso apostolado. Num mosteiro\, edificado pelo mesmo rei\, em Dume\, mesmo ao lado de Braga\, assenta o grande apóstolo dos suevos os seus arraiais\, como escola de monaquismo e base de irradiação catequética e missionária. A igreja do mosteiro é dedicada a S. Martinho de Tours\, e foi sagrada em 558. O seu abade foi elevado ao episcopado pelo bispo de Braga já em 556\, em atenção ao seu exímio saber e extraordinário zelo e santidade. Com a subida ao trono do rei Teodomiro (559)\, consumava-se o regresso dos Suevos ao catolicismo\, deixando o arianismo. \n  \nPode ler a parte restante das breves biografias dos santos celebrados neste dia – Martinho de Dume\, Frutuoso e Geraldo – ano III volume da obra «Santos de cada dia – Setembro\, Outubro\, Novembro\, Dezembro»\, publicado pelo Secretariado Nacional do Apostolado da Oração – 4ª edição\, revista e atualizada por António José Coelho\, S.J.\, Editorial A.O.\, Braga 2003 (páginas 366-369).
URL:https://cantabo-cs.com/canticos/s-martinho-de-dume-bispo-579/
END:VEVENT
BEGIN:VEVENT
DTSTART;VALUE=DATE:20241205
DTEND;VALUE=DATE:20241206
DTSTAMP:20260424T110038
CREATED:20190919T184837Z
LAST-MODIFIED:20240903T072345Z
UID:7221-1733356800-1733443199@cantabo-cs.com
SUMMARY:S. Frutuoso\, Bispo (+ 665)
DESCRIPTION:Quase uns 90 anos depois de S. Martinho de Dume falecer\, é S. Frutuoso que vem presidir na Sé de Braga\, depois de\, também como ele\, ter estacionado na de Dume. E\, como aquele\, também Frutuoso procede de além-fronteiras\, este último da diocese de Astorga. Tomou posse de Braga em 656. \nA vida monástica gozava então de honra e estima\, como o refúgio ou terra privilegiada da virtude e cultivo da ciência\, primariamente da ciência e cultura sagradas. Por isso\, S. Frutuoso surge como o assíduo e incansável cultor do monaquismo e fundador de uns dez mosteiros. Primeiro\, vários na Hispânia que cedo se tornaram célebres\, em várias e distantes províncias\, percorridas nesta audaciosa propaganda de fundações monásticas. […] \nNo mosteiro\, imensa colmeia humana\, o trabalho dos diferentes campos e oficinas supria às necessidades gerais; mas cada qual devia industriar-se e servir-se\, para dar aos outros o mínimo de trabalho possível. Para isso\, competia ao abade fornecer a todos sovelas\, agulhas e linhas de diferentes castas\, para coser\, consertar e remendar os vestidos. Foi o Santo o fundador\, entre nós\, dos mosteiros-refúgios. \nFaleceu a 16 de abril de 665\, no mosteiro de S. Salvador de Montélios\, por ele fundado. Levadas as suas relíquias para Compostela em 1102\, num gesto ambicioso de coisas sagradas\, foram restituídas novamente a Braga\, por ocasião das celebrações centenárias de S. Frutuoso\, em 1965-66. \n\nPode ler a parte restante das breves biografias dos santos celebrados neste dia – Martinho de Dume\, Frutuoso e Geraldo – ano III volume da obra «Santos de cada dia – Setembro\, Outubro\, Novembro\, Dezembro»\, publicado pelo Secretariado Nacional do Apostolado da Oração – 4ª edição\, revista e atualizada por António José Coelho\, S.J.\, Editorial A.O.\, Braga 2003 (páginas 366-369).
URL:https://cantabo-cs.com/canticos/s-frutuoso-bispo-665/
END:VEVENT
BEGIN:VEVENT
DTSTART;VALUE=DATE:20241205
DTEND;VALUE=DATE:20241206
DTSTAMP:20260424T110038
CREATED:20190919T185122Z
LAST-MODIFIED:20240903T072514Z
UID:7224-1733356800-1733443199@cantabo-cs.com
SUMMARY:S. Geraldo\, Bispo (+ 1108)
DESCRIPTION:Estátua de São Geraldo na Sé Catedral de Braga\nDepois da influência tão benéfica do monaquismo\, como referimos acima\, a pro­pósito de S. Frutuoso\, maior expansão ganhou ainda aquela força espiritual e social\, educadora e diretora da Europa\, durante séculos\, com o aparecimento da reforma de Cluny\, inspiração da grande alma de S. Bernardo. Ainda em sua vida eram já cinco\, só na Galiza\, os mosteiros desta nova regra\, cujos monges tanto se notabilizaram\, em virtude e saber\, em grande número e por toda a parte. Um deles foi S. Geraldo\, mais outro antístite bracarense vindo do estrangeiro\, nascido de família nobre e altamente religiosa\, na diocese de Cahors\, na França. […] \nDepois da invasão árabe\, Braga foi restaurada como diocese com o bispo D. Pedro\, em 1070\, e como metrópole (arcebispado) com S. Geraldo\, em 1101. O conde portucalense D. Henrique\, parente de Santo Hugo\, abade de Cluny\, interessou-se por que ficasse a ocupar a Sé de Braga o monge cluniacense Geraldo. \n  \nPode ler a parte restante das breves biografias dos santos celebrados neste dia – Martinho de Dume\, Frutuoso e Geraldo – ano III volume da obra «Santos de cada dia – Setembro\, Outubro\, Novembro\, Dezembro»\, publicado pelo Secretariado Nacional do Apostolado da Oração – 4ª edição\, revista e atualizada por António José Coelho\, S.J.\, Editorial A.O.\, Braga 2003 (páginas 366-369).\nLiturgia das Horas de Santos do mês de dezembro
URL:https://cantabo-cs.com/canticos/s-geraldo-bispo-1108/
END:VEVENT
END:VCALENDAR