BEGIN:VCALENDAR
VERSION:2.0
PRODID:-//Cantabo-CS - ECPv6.15.15//NONSGML v1.0//EN
CALSCALE:GREGORIAN
METHOD:PUBLISH
X-WR-CALNAME:Cantabo-CS
X-ORIGINAL-URL:https://cantabo-cs.com
X-WR-CALDESC:Eventos para Cantabo-CS
REFRESH-INTERVAL;VALUE=DURATION:PT1H
X-Robots-Tag:noindex
X-PUBLISHED-TTL:PT1H
BEGIN:VTIMEZONE
TZID:UTC
BEGIN:STANDARD
TZOFFSETFROM:+0000
TZOFFSETTO:+0000
TZNAME:UTC
DTSTART:20230101T000000
END:STANDARD
END:VTIMEZONE
BEGIN:VEVENT
DTSTART;VALUE=DATE:20241130
DTEND;VALUE=DATE:20241201
DTSTAMP:20260424T110537
CREATED:20190905T160057Z
LAST-MODIFIED:20240427T160633Z
UID:7150-1732924800-1733011199@cantabo-cs.com
SUMMARY:Santo André\, Apóstolo
DESCRIPTION:Estátua de Santo André | Basílica de São João de Latrão (Ecclesiarum omnium Mater et Caput» (Sé episcopal de Roma)\nOs Gregos chamam a este ousado apóstolo Protókletos\, que significa: o primeiro chamado. Santo André foi um dos afortunados que viram Jesus na verde planície de Jericó. Ele passava. O Baptista indicou-o com o dedo de Precursor e disse: «Eis o Cordeiro de Deus\, que tira os pecados do mundo». André e João foram atrás d’Ele\, com a agitação duma juventude que se abre para a vida.\nNão se atreveram a falar-Lhe\, até que Jesus Se virou para eles – feliz olhar – e lhes perguntou: «Que procurais?» – «Mestre\, onde habitas?» – «Vinde e vereis». […]\nAs Atas do seu martírio são relativamente tardias\, do século IV\, e revestem a forma duma carta que escrevem os presbíteros de Patras à Igreja universal\, comunicando a notícia da morte e martírio do Apóstolo. Embora a forma esteja muito enfeitada\, o fundo geral é histórico. Têm especial interesse os afectos que sugere a Santo André a vista da cruz\, o instrumento do seu martírio. Cruz em forma de aspa ou X\, que é conhecida pelo nome de cruz de Santo André. […] \n*** *** *** \nPode ler a parte restante da breve biografia de Santo André no III volume da obra «Santos de cada dia – Setembro\, Outubro\, Novembro\, Dezembro»\, publicado pelo Secretariado Nacional do Apostolado da Oração – 4ª edição\, revista e atualizada por António José Coelho\, S.J.\, Editorial A.O.\, Braga 2003 (páginas 339-340).\n\n\n 
URL:https://cantabo-cs.com/canticos/santo-andre-apostolo/
END:VEVENT
END:VCALENDAR