BEGIN:VCALENDAR
VERSION:2.0
PRODID:-//Cantabo-CS - ECPv6.15.15//NONSGML v1.0//EN
CALSCALE:GREGORIAN
METHOD:PUBLISH
X-ORIGINAL-URL:https://cantabo-cs.com
X-WR-CALDESC:Eventos para Cantabo-CS
REFRESH-INTERVAL;VALUE=DURATION:PT1H
X-Robots-Tag:noindex
X-PUBLISHED-TTL:PT1H
BEGIN:VTIMEZONE
TZID:UTC
BEGIN:STANDARD
TZOFFSETFROM:+0000
TZOFFSETTO:+0000
TZNAME:UTC
DTSTART:20230101T000000
END:STANDARD
END:VTIMEZONE
BEGIN:VEVENT
DTSTART;VALUE=DATE:20241110
DTEND;VALUE=DATE:20241111
DTSTAMP:20260424T122458
CREATED:20190905T143917Z
LAST-MODIFIED:20240427T154350Z
UID:7101-1731196800-1731283199@cantabo-cs.com
SUMMARY:XXXII Domingo do Tempo Comum
DESCRIPTION:A palavra de Deus deste domingo apresenta-nos duas mulheres crentes e generosas\, que\, além disso\, tinham em comum o facto de pertencerem a classe de pessoas insignificantes. São pobres e viúvas. Arriscam tudo. Também nós\, para experimentar a generosidade de Deus\, temos de arriscar a nossa segurança mesquinha. Deus não mede o que fazemos ao próximo com algarismos. Mede com amor\, avalia de acordo com os valores interiores da pessoa\, vai até ao coração. Não basta dar\, é preciso dar-se. […]
URL:https://cantabo-cs.com/canticos/xxxii-domingo-do-tempo-comum/
END:VEVENT
END:VCALENDAR