BEGIN:VCALENDAR
VERSION:2.0
PRODID:-//Cantabo-CS - ECPv6.15.15//NONSGML v1.0//EN
CALSCALE:GREGORIAN
METHOD:PUBLISH
X-ORIGINAL-URL:https://cantabo-cs.com
X-WR-CALDESC:Eventos para Cantabo-CS
REFRESH-INTERVAL;VALUE=DURATION:PT1H
X-Robots-Tag:noindex
X-PUBLISHED-TTL:PT1H
BEGIN:VTIMEZONE
TZID:UTC
BEGIN:STANDARD
TZOFFSETFROM:+0000
TZOFFSETTO:+0000
TZNAME:UTC
DTSTART:20230101T000000
END:STANDARD
END:VTIMEZONE
BEGIN:VEVENT
DTSTART;VALUE=DATE:20241103
DTEND;VALUE=DATE:20241104
DTSTAMP:20260424T122912
CREATED:20190905T143517Z
LAST-MODIFIED:20240427T154127Z
UID:7095-1730592000-1730678399@cantabo-cs.com
SUMMARY:XXXI Domingo do Tempo Comum
DESCRIPTION:No Antigo Testamento o mandamento do amor de Deus já é completado pelo “segundo mandamento”: “Amarás o teu próximo como a ti mesmo”. Na realidade\, no Antigo Testamento nunca se acreditou poder amar a Deus sem se interessar pelo homem. O amor para com Deus prolonga-se necessariamente no amor do próximo. Do princípio ao fim do Novo Testamento\, o amor do próximo aparece inseparável do amor de Deus: os dois mandamentos\, na verdade são um só\, que é o ápice e a cúpula de toda a lei. \nDe facto\, “quem não ama o seu irmão que vê não pode amar a Deus que não vê… quem ama a Deus ame também o seu irmão”. Não se poderia afirmar com mais clareza que\, em substância\, há um único amor. O amor do próximo é\, pois\, essencialmente religioso\, não simples filantropia. É religioso pelo seu modelo: o cristão ama o próximo para imitar a Deus\, que ama a todos sem distinção; mas o é sobretudo pela sua fonte\, porque é obra de Deus em nós. De facto\, como poderíamos ser misericordiosos como o Pai dos Céus\, se o Senhor não nos ensinasse e se o Espírito Santo não o derramasse em nossos corações? […]
URL:https://cantabo-cs.com/canticos/xxxi-domingo-do-tempo-comum/
END:VEVENT
END:VCALENDAR